BEGIN:VCALENDAR
VERSION:2.0
PRODID:-//eventon.com NONSGML v1.0//EN
CALSCALE:GREGORIAN
METHOD:PUBLISH
BEGIN:VEVENT
UID:69e836b350741
DTSTAMP:20260422T024715Z
DTSTART:20201016T163000Z
DTEND:20201016T210000Z
LOCATION:
SUMMARY:GEANNULEERD: Vrienden van Flora LIVE 2020 - VRIJDAG
DESCRIPTION:** Helaas is deze editie van de Vrienden van Flora LIVE geannul
 eerd. Gasten die tickets hebben gekocht zijn op de hoogte gebracht van de a
 fhandeling. Heb je geen mail gehad? Dan kunt u contact met ons opnemen; 017
 2-766047.** Vrijdag 16 oktober 2020Inloop: tussen 17.00 - 18.30 uurAanvang 
 programma: 18.30 uurEinde[..]\nhttps://floraboskoop.nl/events/vrienden-van-
 flora-live-2020/
URL:https://floraboskoop.nl/events/vrienden-van-flora-live-2020/
END:VEVENT
END:VCALENDAR