BEGIN:VCALENDAR
VERSION:2.0
PRODID:-//eventon.com NONSGML v1.0//EN
CALSCALE:GREGORIAN
METHOD:PUBLISH
BEGIN:VEVENT
UID:69eb7378f29de
DTSTAMP:20260424T134320Z
DTSTART:20260508T200000Z
DTEND:20260508T215900Z
LOCATION:
SUMMARY:CLUP UP met Niels van der Meer
DESCRIPTION:We go way back... maar dit voelt als iets totaal nieuws! 🔥 C
 lup Up is misschien nog onbekend voor sommigen\,  maar geloof ons: dit wil 
 je niet missen. Boven in Flora vind je sinds vorig jaar een compleet vernie
 uwde zaal: intiem\,  stijlvol en met precies de juiste vibe voor een[..]\nh
 ttps://floraboskoop.nl/events/clup-up-met-niels-van-der-meer/
URL:https://floraboskoop.nl/events/clup-up-met-niels-van-der-meer/
END:VEVENT
END:VCALENDAR