BEGIN:VCALENDAR
VERSION:2.0
PRODID:-//eventon.com NONSGML v1.0//EN
CALSCALE:GREGORIAN
METHOD:PUBLISH
BEGIN:VEVENT
UID:69eb7341e2a26
DTSTAMP:20260424T134225Z
DTSTART:20261119T191500Z
DTEND:20261119T225900Z
LOCATION:
SUMMARY:Sjaak Bral - Vaarwel 2026!
DESCRIPTION:Deze voorstelling is onderdeel van het theaterprogramma van het
  Flora Theater. Sjaak Bral - Vaarwel 2026! Mijn 30e oudejaarsconference. Ee
 n unicum in de Nederlandse theatergeschiedenis en zeker ook in de geschiede
 nis van mijzelf. Ik heb nog nooit iets 30 jaar volgehouden. Behalve ademen.
  Het is ook geen kwestie van volhouden.[..]\nhttps://floraboskoop.nl/events
 /sjaak-bral-vaarwel-2026/
URL:https://floraboskoop.nl/events/sjaak-bral-vaarwel-2026/
END:VEVENT
END:VCALENDAR