BEGIN:VCALENDAR
VERSION:2.0
PRODID:-//eventon.com NONSGML v1.0//EN
CALSCALE:GREGORIAN
METHOD:PUBLISH
BEGIN:VEVENT
UID:69e734618add9
DTSTAMP:20260421T082505Z
DTSTART:20251230T183000Z
DTEND:20251230T225900Z
LOCATION:Flora Boskoop Parklaan 4\,  2771 GB Boskoop
SUMMARY:Koppelklaverjassen
DESCRIPTION:Dinsdag 30 december organiseert Flora weer Koppelklaverjassen. 
 Inloop: 19:30 uurStart: 20:00 uurAantal rondes: 4Kosten: €15 per koppelWi
 n natuurlijk prachtige prijzen! Schrijf je hier in: [forminator_form id="16
 267"]\nhttps://floraboskoop.nl/events/koppelklaverjassen-3/
URL:https://floraboskoop.nl/events/koppelklaverjassen-3/
END:VEVENT
END:VCALENDAR