BEGIN:VCALENDAR
VERSION:2.0
PRODID:-//eventon.com NONSGML v1.0//EN
CALSCALE:GREGORIAN
METHOD:PUBLISH
BEGIN:VEVENT
UID:69e780bb3b100
DTSTAMP:20260421T135051Z
DTSTART:20261017T180000Z
DTEND:20261017T215900Z
LOCATION:
SUMMARY:Vrienden van Flora LIVE
DESCRIPTION:Vrienden van Flora 2026 gooit het roer om: meer ruimte voor DJâ
 €™s/DJ-acts en zangers/zangeressenDe 14e editie van Vrienden van Flora\,  d
 ie plaatsvindt op zaterdag 17 oktober 2026\,  krijgt dit jaar een vernieuwd
 e opzet. Waar het evenement voorheen vooral bekend stond als een muzikale a
 vond voor regionale bands\,  kiest de organisatie[..]\nhttps://floraboskoop
 .nl/events/vrienden-van-flora-live-2/
URL:https://floraboskoop.nl/events/vrienden-van-flora-live-2/
END:VEVENT
END:VCALENDAR