BEGIN:VCALENDAR
VERSION:2.0
PRODID:-//eventon.com NONSGML v1.0//EN
CALSCALE:GREGORIAN
METHOD:PUBLISH
BEGIN:VEVENT
UID:69e68bb93a677
DTSTAMP:20260420T202529Z
DTSTART:20260215T180000Z
DTEND:20260215T225900Z
LOCATION:
SUMMARY:Familie bal & thema bal
DESCRIPTION:Familiebal De toegangsprijs is aangepast zodat iedereen kan sch
 itteren\,  Volwassenen betalen €7\, 50 en kinderen t/m 12 jaar €4\, 00.
  Leden hebben natuurlijk gratis entree. Deze middag wordt iedereen verwelko
 mt in "Super Mario Party" Hangt jouw super Mario... ThemabalDeze avond zal 
 geheel in het teken staan van "Super Mario style". Meer informatie[..]\nhtt
 ps://floraboskoop.nl/events/familie-bal-thema-bal/
URL:https://floraboskoop.nl/events/familie-bal-thema-bal/
END:VEVENT
END:VCALENDAR