BEGIN:VCALENDAR
VERSION:2.0
PRODID:-//eventon.com NONSGML v1.0//EN
CALSCALE:GREGORIAN
METHOD:PUBLISH
BEGIN:VEVENT
UID:69ea5f8d91fd2
DTSTAMP:20260423T180605Z
DTSTART:20260213T180000Z
DTEND:20260213T225900Z
LOCATION:
SUMMARY:Bal Masqué
DESCRIPTION:Meer informatie via dekrooshappers.nl\nhttps://floraboskoop.nl/
 events/c-v-de-krooshappers/
URL:https://floraboskoop.nl/events/c-v-de-krooshappers/
END:VEVENT
END:VCALENDAR