BEGIN:VCALENDAR
VERSION:2.0
PRODID:-//eventon.com NONSGML v1.0//EN
CALSCALE:GREGORIAN
METHOD:PUBLISH
BEGIN:VEVENT
UID:69ebf5cf4d73d
DTSTAMP:20260424T225927Z
DTSTART:20240621T190000Z
DTEND:20240621T215900Z
LOCATION:
SUMMARY:EK Voetbal | Nederland - Frankrijk
DESCRIPTION:Het EK staat voor de deur\,  en dan tovert Flora weer om tot Bo
 skoop Heineken House! Op groot scherm kun jij met je vrienden het Oranje te
 am aanmoedigen richting de winst. We hebben weer hele leuke activiteiten be
 dacht rondom het EK. Houdt onze Social Media in de gaten voor het[..]\nhttp
 s://floraboskoop.nl/events/ek-voetbal-nederland-frankrijk/
URL:https://floraboskoop.nl/events/ek-voetbal-nederland-frankrijk/
END:VEVENT
END:VCALENDAR