BEGIN:VCALENDAR
VERSION:2.0
PRODID:-//eventon.com NONSGML v1.0//EN
CALSCALE:GREGORIAN
METHOD:PUBLISH
BEGIN:VEVENT
UID:69e9789b5fd0b
DTSTAMP:20260423T014043Z
DTSTART:20240327T190000Z
DTEND:20240327T225900Z
LOCATION:
SUMMARY:Jubileumconcert Harmonie Excelsior
DESCRIPTION:In 2024 bestaat Harmonie Excelsior 120 jaar! En daarom organise
 ert de vereniging op 27 maart om 20.00 uur een galaconcert in het Florathea
 ter. Samen met de Boskoopse zangeres Willemijn van ’t Wout en de grappige
  muzikanten van de Omniband wordt er een mooie avond voorbereid! Kaarten zi
 jn voor 12\, 50 euro[..]\nhttps://floraboskoop.nl/events/jubileumconcert-ha
 rmonie-excelsior/
URL:https://floraboskoop.nl/events/jubileumconcert-harmonie-excelsior/
END:VEVENT
END:VCALENDAR