BEGIN:VCALENDAR
VERSION:2.0
PRODID:-//eventon.com NONSGML v1.0//EN
CALSCALE:GREGORIAN
METHOD:PUBLISH
BEGIN:VEVENT
UID:69e8344113e3b
DTSTAMP:20260422T023649Z
DTSTART:20221022T180000Z
DTEND:20221022T215000Z
LOCATION:
SUMMARY:Vrienden van Flora LIVE 2022
DESCRIPTION:Vrienden van Flora Live gaat dit jaar eindelijk weer door na 2 
 gemiste edities! Diverse podia in verschillende zalen met 19 bands in aller
 lei muziekstijlen. Van rock tot pop\,  reggae tot blues\,  ballad tot Neder
 landstalig.. alles komt langs. Bands van 2022: TINY BIG BANG\,  BENDE VAN E
 LLIENDE\,  HAVE A CIGAR\, [..]\nhttps://floraboskoop.nl/events/vrienden-van
 -flora-live-2022/
URL:https://floraboskoop.nl/events/vrienden-van-flora-live-2022/
END:VEVENT
END:VCALENDAR