BEGIN:VCALENDAR
VERSION:2.0
PRODID:-//eventon.com NONSGML v1.0//EN
CALSCALE:GREGORIAN
METHOD:PUBLISH
BEGIN:VEVENT
UID:69ea128fa9c5b
DTSTAMP:20260423T123735Z
DTSTART:20240331T170000Z
DTEND:20240331T215000Z
LOCATION:
SUMMARY:Haaspop Zondag
DESCRIPTION:Haaspop is een meerdaags festival\,  met elke avond een andere 
 line up en voor iedereen wat!Je hoeft dus niet te kiezen en kom gezellig na
 ar alle avonden. Van vrijdag 29 tot en met zondag 31 maart wordt Wijkdijk 6
 7 in Boskoop omgebouwd tot een waar festivalterrein met een verschillende s
 tages[..]\nhttps://floraboskoop.nl/events/haaspop-zondag/
URL:https://floraboskoop.nl/events/haaspop-zondag/
END:VEVENT
END:VCALENDAR